BEGIN:VCALENDAR
VERSION:2.0
PRODID:-//Squarespace Inc/Squarespace 6//v6//EN
BEGIN:VEVENT
UID:5fff65936bdd211378c1861e@squarespace.com
DTSTAMP:20210114T050421Z
DTSTART:20210128T233000Z
DTEND:20210129T003000Z
SUMMARY:Four Natural Ways to Fortify Your Defenses -- A Zoom Presentation
GEO:42.325739;-88.985335
LOCATION:Choices Natural Market\, 6718 Broadcast Pkwy\, Loves Park\, IL\, 6
 1111\, United States
END:VEVENT
END:VCALENDAR
