BEGIN:VCALENDAR
VERSION:2.0
PRODID:-//Squarespace Inc/Squarespace 6//v6//EN
BEGIN:VEVENT
UID:5fff50f31514820092947d01@squarespace.com
DTSTAMP:20210113T201110Z
DTSTART:20210114T140000Z
DTEND:20210116T000000Z
SUMMARY:Organic Smart Chicken Flash Sale
GEO:42.325739;-88.985335
LOCATION:Choices Natural Market\, 6718 Broadcast Pkwy\, Loves Park\, IL\, 6
 1111\, United States
END:VEVENT
END:VCALENDAR
