BEGIN:VCALENDAR
VERSION:2.0
PRODID:-//Squarespace Inc/Squarespace 6//v6//EN
BEGIN:VEVENT
UID:5fff6e2a8973b172e16abb1b@squarespace.com
DTSTAMP:20210113T225018Z
DTSTART:20210120T140000Z
DTEND:20210121T000000Z
SUMMARY:Customer Appreciation Sale - 20% Off of Your Online Purchase
GEO:42.325739;-88.985335
LOCATION:Choices Natural Market\, 6718 Broadcast Pkwy\, Loves Park\, IL\, 6
 1111\, United States
END:VEVENT
END:VCALENDAR
