BEGIN:VCALENDAR
VERSION:2.0
PRODID:-//Squarespace Inc/Squarespace 6//v6//EN
BEGIN:VEVENT
UID:5fff46a0a6277102309af188@squarespace.com
DTSTAMP:20210113T220310Z
DTSTART:20210125T233000Z
DTEND:20210126T003000Z
SUMMARY:Vegetarianism:  A Beginner's Guide -- A Zoom Presentation
GEO:42.325739;-88.985335
LOCATION:Choices Natural Market\, 6718 Broadcast Pkwy\, Loves Park\, IL\, 6
 1111\, United States
END:VEVENT
END:VCALENDAR
