BEGIN:VCALENDAR
VERSION:2.0
PRODID:-//Squarespace Inc/Squarespace 6//v6//EN
BEGIN:VEVENT
UID:61a7fa4533a4797f9586eea2@squarespace.com
DTSTAMP:20211203T160032Z
DTSTART:20211204T110000Z
DTEND:20211205T000000Z
SUMMARY:Rise and Shine PJ Shopping Saturday
GEO:42.325739;-88.985335
LOCATION:Choices Natural Market\, 6718 Broadcast Pkwy\, Loves Park\, IL\, 6
 1111\, United States
END:VEVENT
END:VCALENDAR
