BEGIN:VCALENDAR
VERSION:2.0
PRODID:-//Squarespace Inc/Squarespace 6//v6//EN
BEGIN:VEVENT
UID:5fffb42cd2099974d77874b0@squarespace.com
DTSTAMP:20210114T044514Z
DTSTART:20210211T140000Z
DTEND:20210211T170000Z
SUMMARY:Customer Appreciation Day for Phone Orders
GEO:42.325739;-88.985335
LOCATION:Choices Natural Market\, 6718 Broadcast Pkwy\, Loves Park\, IL\, 6
 1111\, United States
END:VEVENT
END:VCALENDAR
