BEGIN:VCALENDAR
VERSION:2.0
PRODID:-//Squarespace Inc/Squarespace 6//v6//EN
BEGIN:VEVENT
UID:5fff796d36ad2963121b3663@squarespace.com
DTSTAMP:20210114T044425Z
DTSTART:20210209T140000Z
DTEND:20210209T170000Z
SUMMARY:Customer Appreciation Day for Phone Orders
GEO:42.325739;-88.985335
LOCATION:Choices Natural Market\, 6718 Broadcast Pkwy\, Loves Park\, IL\, 6
 1111\, United States
END:VEVENT
END:VCALENDAR
