BEGIN:VCALENDAR
VERSION:2.0
PRODID:-//Squarespace Inc/Squarespace 6//v6//EN
BEGIN:VEVENT
UID:60eddde48f209f4d8283fc75@squarespace.com
DTSTAMP:20210714T163540Z
DTSTART:20210716T160000Z
DTEND:20210716T230000Z
SUMMARY:Fun Friday
GEO:42.325739;-88.985335
LOCATION:Choices Natural Market\, 6718 Broadcast Pkwy\, Loves Park\, IL\, 6
 1111\, United States
END:VEVENT
END:VCALENDAR
