BEGIN:VCALENDAR
VERSION:2.0
PRODID:-//Squarespace Inc/Squarespace 6//v6//EN
BEGIN:VEVENT
UID:60e07158a8aece20c94532a6@squarespace.com
DTSTAMP:20210713T175125Z
DTSTART:20210719T223000Z
DTEND:20210719T231500Z
SUMMARY:Let's Cook!  Chard\, the Queen of Greens
GEO:42.325739;-88.985335
LOCATION:Choices Natural Market\, 6718 Broadcast Pkwy\, Loves Park\, IL\, 6
 1111\, United States
END:VEVENT
END:VCALENDAR
