BEGIN:VCALENDAR
VERSION:2.0
PRODID:-//Squarespace Inc/Squarespace 6//v6//EN
BEGIN:VEVENT
UID:625dc637f4782050225eda37@squarespace.com
DTSTAMP:20220419T181515Z
DTSTART:20220428T220000Z
DTEND:20220428T223000Z
SUMMARY:What are Microgreens?  - a local farmer presentation - Greenlight A
 cres farm 
GEO:42.325739;-88.985335
LOCATION:Choices Natural Market\, 6718 Broadcast Pkwy\, Loves Park\, IL\, 6
 1111\, United States
END:VEVENT
END:VCALENDAR
