BEGIN:VCALENDAR
VERSION:2.0
PRODID:-//Squarespace Inc/Squarespace 6//v6//EN
BEGIN:VEVENT
UID:626eab8cc5414a740a54f137@squarespace.com
DTSTAMP:20220520T133952Z
DTSTART:20220611T140000Z
DTEND:20220611T150000Z
SUMMARY:Come Back To Life - A Gentle Breath &amp\; Movement Class
GEO:42.325739;-88.985335
LOCATION:Choices Natural Market\, 6718 Broadcast Pkwy\, Loves Park\, IL\, 6
 1111\, United States
END:VEVENT
END:VCALENDAR
