BEGIN:VCALENDAR
VERSION:2.0
PRODID:-//Squarespace Inc/Squarespace 6//v6//EN
BEGIN:VEVENT
UID:626ea7d789b917154a571ab6@squarespace.com
DTSTAMP:20220502T172901Z
DTSTART:20220521T140000Z
DTEND:20220521T150000Z
SUMMARY:Herbal Immunity Support Class
GEO:42.325739;-88.985335
LOCATION:Choices Natural Market\, 6718 Broadcast Pkwy\, Loves Park\, IL\, 6
 1111\, United States
END:VEVENT
END:VCALENDAR
