BEGIN:VCALENDAR
VERSION:2.0
PRODID:-//Squarespace Inc/Squarespace 6//v6//EN
BEGIN:VEVENT
UID:626ea405b8357d201c9b2c9e@squarespace.com
DTSTAMP:20220502T182922Z
DTSTART:20220525T180000Z
DTEND:20220525T213000Z
SUMMARY:Blood Pressure and Heart Health Check
GEO:42.325739;-88.985335
LOCATION:Choices Natural Market\, 6718 Broadcast Pkwy\, Loves Park\, IL\, 6
 1111\, United States
END:VEVENT
END:VCALENDAR
