BEGIN:VCALENDAR
VERSION:2.0
PRODID:-//Squarespace Inc/Squarespace 6//v6//EN
BEGIN:VEVENT
UID:62701927ec78427133faf2b9@squarespace.com
DTSTAMP:20220502T174954Z
DTSTART:20220507T140000Z
DTEND:20220507T210000Z
SUMMARY:Sample Saturday
GEO:42.325739;-88.985335
LOCATION:Choices Natural Market\, 6718 Broadcast Pkwy\, Loves Park\, IL\, 6
 1111\, United States
END:VEVENT
END:VCALENDAR
