BEGIN:VCALENDAR
VERSION:2.0
PRODID:-//Squarespace Inc/Squarespace 6//v6//EN
BEGIN:VEVENT
UID:62854ac3f71d5d5e6ea47ac8@squarespace.com
DTSTAMP:20220518T202445Z
DTSTART:20220625T140000Z
DTEND:20220625T150000Z
SUMMARY:Good Food = Good Mood + Good Energy
GEO:42.325739;-88.985335
LOCATION:Choices Natural Market\, 6718 Broadcast Pkwy\, Loves Park\, IL\, 6
 1111\, United States
END:VEVENT
END:VCALENDAR
