BEGIN:VCALENDAR
VERSION:2.0
PRODID:-//Squarespace Inc/Squarespace 6//v6//EN
BEGIN:VEVENT
UID:62c84740ddc90112b788d7f8@squarespace.com
DTSTAMP:20220708T152304Z
DTSTART:20220724T170000Z
DTEND:20220724T180000Z
SUMMARY:Life is a Picnic
GEO:42.325739;-88.985335
LOCATION:Choices Natural Market\, 6718 Broadcast Pkwy\, Loves Park\, IL\, 6
 1111\, United States
END:VEVENT
END:VCALENDAR
