BEGIN:VCALENDAR
VERSION:2.0
PRODID:-//Squarespace Inc/Squarespace 6//v6//EN
BEGIN:VEVENT
UID:6312561e2c3bab6305607c8e@squarespace.com
DTSTAMP:20220902T192108Z
DTSTART:20220917T140000Z
DTEND:20220917T150000Z
SUMMARY:Curbing Emotional Eating for Optimal Health
GEO:42.325739;-88.985335
LOCATION:Choices Natural Market\, 6718 Broadcast Pkwy\, Loves Park\, IL\, 6
 1111\, United States
END:VEVENT
END:VCALENDAR
