BEGIN:VCALENDAR
VERSION:2.0
PRODID:-//Squarespace Inc/Squarespace 6//v6//EN
BEGIN:VEVENT
UID:631236b76e0b355243425b60@squarespace.com
DTSTAMP:20220902T170724Z
DTSTART:20220903T130000Z
DTEND:20220903T210000Z
SUMMARY:Sample Saturday
GEO:42.325739;-88.985335
LOCATION:Choices Natural Market\, 6718 Broadcast Pkwy\, Loves Park\, IL\, 6
 1111\, United States
END:VEVENT
END:VCALENDAR
